BEGIN:VCALENDAR
VERSION:2.0
PRODID:-//wp-events-plugin.com//7.2.3.1//EN
TZID:Europe/Berlin
X-WR-TIMEZONE:Europe/Berlin
BEGIN:VEVENT
UID:18@neunkircher-sportverband.de
DTSTART;TZID=Europe/Berlin:20250615T093000
DTEND;TZID=Europe/Berlin:20250615T130000
DTSTAMP:20250604T152522Z
URL:https://neunkircher-sportverband.de/events/stadtmeisterschaften-im-tra
 mpolinturnen/
SUMMARY:Stadtmeisterschaften im Trampolinturnen
DESCRIPTION:Veranstaltungsort: Sporthalle der Gemeinschaftsschule\, Trierer
  Straße 23\, 66625 Nohfelden-Türkismühle\n\n&nbsp\;
END:VEVENT
BEGIN:VTIMEZONE
TZID:Europe/Berlin
X-LIC-LOCATION:Europe/Berlin
BEGIN:DAYLIGHT
DTSTART:20250330T030000
TZOFFSETFROM:+0100
TZOFFSETTO:+0200
TZNAME:CEST
END:DAYLIGHT
END:VTIMEZONE
END:VCALENDAR