BEGIN:VCALENDAR
VERSION:2.0
PRODID:-//wp-events-plugin.com//7.2.3.1//EN
TZID:Europe/Berlin
X-WR-TIMEZONE:Europe/Berlin
BEGIN:VEVENT
UID:19@neunkircher-sportverband.de
DTSTART;TZID=Europe/Berlin;VALUE=DATE:20250613
DTEND;TZID=Europe/Berlin;VALUE=DATE:20250615
DTSTAMP:20250604T152905Z
URL:https://neunkircher-sportverband.de/events/stadtmeisterschaften-im-fre
 izeitkegeln/
SUMMARY:Stadtmeisterschaften im Freizeitkegeln
DESCRIPTION:Veranstaltungsort: Kegelbahnen TuS-Halle Neunkirchen\n\nNähere
  Informationen unter www.kscwiebelskirchen.de
END:VEVENT
BEGIN:VTIMEZONE
TZID:Europe/Berlin
X-LIC-LOCATION:Europe/Berlin
BEGIN:DAYLIGHT
DTSTART:20250330T030000
TZOFFSETFROM:+0100
TZOFFSETTO:+0200
TZNAME:CEST
END:DAYLIGHT
END:VTIMEZONE
END:VCALENDAR