BEGIN:VCALENDAR
VERSION:2.0
PRODID:-//wp-events-plugin.com//7.2.3.1//EN
TZID:Europe/Berlin
X-WR-TIMEZONE:Europe/Berlin
BEGIN:VEVENT
UID:4@neunkircher-sportverband.de
DTSTART;TZID=Europe/Berlin:20230513T114000
DTEND;TZID=Europe/Berlin:20230513T190000
DTSTAMP:20230312T103503Z
URL:https://neunkircher-sportverband.de/events/8-wagwiesenrennen/
SUMMARY:8. Wagwiesenrennen
DESCRIPTION:Weitere Informationen unter https://www.wagwiesenrennen.de/
LOCATION:Wagwiesental Neunkirchen (vor TuS-Halle 4)\, Haspelstraße\, Neunk
 irchen\, 66538 \, Deutschland
X-APPLE-STRUCTURED-LOCATION;VALUE=URI;X-ADDRESS=Haspelstraße\, Neunkirchen
 \, 66538 \, Deutschland;X-APPLE-RADIUS=100;X-TITLE=Wagwiesental Neunkirche
 n (vor TuS-Halle 4):geo:0,0
END:VEVENT
BEGIN:VTIMEZONE
TZID:Europe/Berlin
X-LIC-LOCATION:Europe/Berlin
BEGIN:DAYLIGHT
DTSTART:20230326T030000
TZOFFSETFROM:+0100
TZOFFSETTO:+0200
TZNAME:CEST
END:DAYLIGHT
END:VTIMEZONE
END:VCALENDAR